Package: AmpAffyExample Version: 1.51.0 Command: /home/biocbuild/bbs-3.23-bioc/R/bin/R CMD check --install=check:AmpAffyExample.install-out.txt --library=/home/biocbuild/bbs-3.23-bioc/R/site-library --timings AmpAffyExample_1.51.0.tar.gz StartedAt: 2025-11-13 12:02:16 -0500 (Thu, 13 Nov 2025) EndedAt: 2025-11-13 12:03:33 -0500 (Thu, 13 Nov 2025) EllapsedTime: 76.3 seconds RetCode: 0 Status: WARNINGS CheckDir: AmpAffyExample.Rcheck Warnings: 1