Package: Affymoe4302Expr Version: 1.49.0 Command: /home/biocbuild/bbs-3.23-bioc/R/bin/R CMD build --keep-empty-dirs --no-resave-data Affymoe4302Expr StartedAt: 2025-10-30 11:07:11 -0400 (Thu, 30 Oct 2025) EndedAt: 2025-10-30 11:07:40 -0400 (Thu, 30 Oct 2025) EllapsedTime: 28.7 seconds RetCode: 0 Status: OK PackageFile: Affymoe4302Expr_1.49.0.tar.gz PackageFileSize: 417.6 MiB