Package: AffymetrixDataTestFiles Version: 0.49.0 Command: /home/biocbuild/bbs-3.23-bioc/R/bin/R CMD build --keep-empty-dirs --no-resave-data AffymetrixDataTestFiles StartedAt: 2025-10-30 11:07:11 -0400 (Thu, 30 Oct 2025) EndedAt: 2025-10-30 11:08:17 -0400 (Thu, 30 Oct 2025) EllapsedTime: 66.3 seconds RetCode: 0 Status: OK PackageFile: AffymetrixDataTestFiles_0.49.0.tar.gz PackageFileSize: 38.84 MiB