Package: Affyhgu133aExpr Version: 1.49.0 Command: /home/biocbuild/bbs-3.23-bioc/R/bin/R CMD check --install=check:Affyhgu133aExpr.install-out.txt --library=/home/biocbuild/bbs-3.23-bioc/R/site-library --timings Affyhgu133aExpr_1.49.0.tar.gz StartedAt: 2025-10-30 11:57:16 -0400 (Thu, 30 Oct 2025) EndedAt: 2025-10-30 11:57:47 -0400 (Thu, 30 Oct 2025) EllapsedTime: 31.1 seconds RetCode: 0 Status: OK CheckDir: Affyhgu133aExpr.Rcheck Warnings: 0