Package: Affyhgu133Plus2Expr Version: 1.45.0 Command: /home/biocbuild/bbs-3.23-bioc/R/bin/R CMD INSTALL Affyhgu133Plus2Expr StartedAt: 2025-10-30 10:55:46 -0400 (Thu, 30 Oct 2025) EndedAt: 2025-10-30 10:55:50 -0400 (Thu, 30 Oct 2025) EllapsedTime: 3.8 seconds RetCode: 0 Status: OK