Package: Affyhgu133Plus2Expr Version: 1.45.0 Command: /home/biocbuild/bbs-3.23-bioc/R/bin/R CMD check --install=check:Affyhgu133Plus2Expr.install-out.txt --library=/home/biocbuild/bbs-3.23-bioc/R/site-library --timings Affyhgu133Plus2Expr_1.45.0.tar.gz StartedAt: 2025-10-30 11:57:16 -0400 (Thu, 30 Oct 2025) EndedAt: 2025-10-30 11:57:41 -0400 (Thu, 30 Oct 2025) EllapsedTime: 24.9 seconds RetCode: 0 Status: OK CheckDir: Affyhgu133Plus2Expr.Rcheck Warnings: 0