Package: Affyhgu133A2Expr Version: 1.47.0 Command: /home/biocbuild/bbs-3.23-bioc/R/bin/R CMD INSTALL Affyhgu133A2Expr StartedAt: 2025-10-30 10:55:17 -0400 (Thu, 30 Oct 2025) EndedAt: 2025-10-30 10:55:18 -0400 (Thu, 30 Oct 2025) EllapsedTime: 1.2 seconds RetCode: 0 Status: OK