Package: AWAggregatorData Version: 1.1.0 Command: /home/biocbuild/bbs-3.23-bioc/R/bin/R CMD INSTALL AWAggregatorData StartedAt: 2025-10-30 10:57:19 -0400 (Thu, 30 Oct 2025) EndedAt: 2025-10-30 10:57:32 -0400 (Thu, 30 Oct 2025) EllapsedTime: 13.1 seconds RetCode: 0 Status: OK