Package: AWAggregatorData Version: 1.1.0 Command: /home/biocbuild/bbs-3.23-bioc/R/bin/R CMD build --keep-empty-dirs --no-resave-data AWAggregatorData StartedAt: 2025-10-30 11:07:19 -0400 (Thu, 30 Oct 2025) EndedAt: 2025-10-30 11:08:01 -0400 (Thu, 30 Oct 2025) EllapsedTime: 41.3 seconds RetCode: 0 Status: OK PackageFile: AWAggregatorData_1.1.0.tar.gz PackageFileSize: 220.4 KiB