Package: ASICSdata Version: 1.31.0 Command: /home/biocbuild/bbs-3.23-bioc/R/bin/R CMD check --install=check:ASICSdata.install-out.txt --library=/home/biocbuild/bbs-3.23-bioc/R/site-library --timings ASICSdata_1.31.0.tar.gz StartedAt: 2025-10-30 11:57:16 -0400 (Thu, 30 Oct 2025) EndedAt: 2025-10-30 11:57:38 -0400 (Thu, 30 Oct 2025) EllapsedTime: 22.2 seconds RetCode: 0 Status: OK CheckDir: ASICSdata.Rcheck Warnings: 0