Package: ALL Version: 1.53.0 Command: /home/biocbuild/bbs-3.23-bioc/R/bin/R CMD check --install=check:ALL.install-out.txt --library=/home/biocbuild/bbs-3.23-bioc/R/site-library --timings ALL_1.53.0.tar.gz StartedAt: 2025-11-27 12:01:37 -0500 (Thu, 27 Nov 2025) EndedAt: 2025-11-27 12:02:08 -0500 (Thu, 27 Nov 2025) EllapsedTime: 31.5 seconds RetCode: 0 Status: OK CheckDir: ALL.Rcheck Warnings: 0