Package: synaptome.data Version: 0.99.6 Command: /home/biocbuild/bbs-3.22-bioc/R/bin/R CMD check --install=check:synaptome.data.install-out.txt --library=/home/biocbuild/bbs-3.22-bioc/R/site-library --timings synaptome.data_0.99.6.tar.gz StartedAt: 2025-10-15 06:00:37 -0400 (Wed, 15 Oct 2025) EndedAt: 2025-10-15 06:02:03 -0400 (Wed, 15 Oct 2025) EllapsedTime: 86.8 seconds RetCode: 0 Status: OK CheckDir: synaptome.data.Rcheck Warnings: 0