Package: geneplast.data Version: 0.99.9 Command: /home/biocbuild/bbs-3.22-bioc/R/bin/R CMD build --keep-empty-dirs --no-resave-data geneplast.data StartedAt: 2025-10-22 05:57:16 -0400 (Wed, 22 Oct 2025) EndedAt: 2025-10-22 05:58:18 -0400 (Wed, 22 Oct 2025) EllapsedTime: 61.6 seconds RetCode: 0 Status: OK PackageFile: geneplast.data_0.99.9.tar.gz PackageFileSize: 3.244 MiB