Package: GeneSummary Version: 0.99.6 Command: /home/biocbuild/bbs-3.22-bioc/R/bin/R CMD check --install=check:GeneSummary.install-out.txt --library=/home/biocbuild/bbs-3.22-bioc/R/site-library --timings GeneSummary_0.99.6.tar.gz StartedAt: 2025-10-08 05:59:21 -0400 (Wed, 08 Oct 2025) EndedAt: 2025-10-08 05:59:40 -0400 (Wed, 08 Oct 2025) EllapsedTime: 19.3 seconds RetCode: 0 Status: OK CheckDir: GeneSummary.Rcheck Warnings: 0