Package: AHWikipathwaysDbs Version: 0.99.4 Command: /home/biocbuild/bbs-3.22-bioc/R/bin/R CMD check --install=check:AHWikipathwaysDbs.install-out.txt --library=/home/biocbuild/bbs-3.22-bioc/R/site-library --timings AHWikipathwaysDbs_0.99.4.tar.gz StartedAt: 2025-10-15 05:58:48 -0400 (Wed, 15 Oct 2025) EndedAt: 2025-10-15 05:59:39 -0400 (Wed, 15 Oct 2025) EllapsedTime: 50.5 seconds RetCode: 0 Status: OK CheckDir: AHWikipathwaysDbs.Rcheck Warnings: 0