Package: AHCytoBands Version: 0.99.1 Command: /home/biocbuild/bbs-3.22-bioc/R/bin/R CMD check --install=check:AHCytoBands.install-out.txt --library=/home/biocbuild/bbs-3.22-bioc/R/site-library --timings AHCytoBands_0.99.1.tar.gz StartedAt: 2025-10-22 05:59:51 -0400 (Wed, 22 Oct 2025) EndedAt: 2025-10-22 06:00:01 -0400 (Wed, 22 Oct 2025) EllapsedTime: 9.3 seconds RetCode: 0 Status: OK CheckDir: AHCytoBands.Rcheck Warnings: 0