All our mirrors of open source software are available via http, https, ftp and an onion service. More information about our mirrors including statistics and contact information is available on our mirror info pages.
For information about dotsrc.org and our other services please go to our website.
| File Name ↓ | File Size ↓ | Date ↓ |
|---|---|---|
| Parent directory/ | - | - |
| AHCytoBands/ | - | 2025-10-22 10:45:07 |
| AHEnsDbs/ | - | 2025-10-22 10:45:07 |
| AHLRBaseDbs/ | - | 2025-10-22 10:45:07 |
| AHMeSHDbs/ | - | 2025-10-22 10:45:07 |
| AHPathbankDbs/ | - | 2025-10-22 10:45:07 |
| AHPubMedDbs/ | - | 2025-10-22 10:45:07 |
| AHWikipathwaysDbs/ | - | 2025-10-22 10:45:07 |
| AlphaMissense.v2023.hg19/ | - | 2025-10-22 10:45:07 |
| AlphaMissense.v2023.hg38/ | - | 2025-10-22 10:45:07 |
| BioMartGOGeneSets/ | - | 2025-10-22 10:45:07 |
| CENTREannotation/ | - | 2025-10-22 10:45:07 |
| CTCF/ | - | 2025-10-22 10:45:07 |
| ENCODExplorerData/ | - | 2025-10-22 10:45:07 |
| EPICv2manifest/ | - | 2025-10-22 10:45:07 |
| EpiTxDb.Hs.hg38/ | - | 2025-10-22 10:45:07 |
| EpiTxDb.Mm.mm10/ | - | 2025-10-22 10:45:07 |
| EpiTxDb.Sc.sacCer3/ | - | 2025-10-22 10:45:07 |
| EuPathDB/ | - | 2025-10-22 10:45:07 |
| GeneSummary/ | - | 2025-10-22 10:45:07 |
| GenomicState/ | - | 2025-10-22 10:45:07 |
| HPO.db/ | - | 2025-10-22 10:45:07 |
| JASPAR2020/ | - | 2025-10-22 10:45:07 |
| JASPAR2022/ | - | 2025-10-22 10:45:07 |
| JASPAR2024/ | - | 2025-10-22 10:45:07 |
| MPO.db/ | - | 2025-10-22 10:45:07 |
| PANTHER.db/ | - | 2025-10-22 10:45:07 |
| SomaScan.db/ | - | 2025-10-22 10:45:07 |
| TENET.AnnotationHub/ | - | 2025-10-22 10:45:07 |
| UCSCRepeatMasker/ | - | 2025-10-22 10:45:07 |
| UniProtKeywords/ | - | 2025-10-22 10:45:07 |
| alternativeSplicingEvents.hg19/ | - | 2025-10-22 10:45:07 |
| alternativeSplicingEvents.hg38/ | - | 2025-10-22 10:45:07 |
| cadd.v1.6.hg19/ | - | 2025-10-22 10:45:07 |
| cadd.v1.6.hg38/ | - | 2025-10-22 10:45:07 |
| chromhmmData/ | - | 2025-10-22 10:45:07 |
| excluderanges/ | - | 2025-10-22 10:45:07 |
| geneplast.data/ | - | 2025-10-22 10:45:07 |
| gwascatData/ | - | 2025-10-22 10:45:07 |
| hpAnnot/ | - | 2025-10-22 10:45:07 |
| metaboliteIDmapping/ | - | 2025-10-22 10:45:07 |
| ontoProcData/ | - | 2025-10-22 10:45:07 |
| org.Hbacteriophora.eg.db/ | - | 2025-10-22 10:45:07 |
| org.Mxanthus.db/ | - | 2025-10-22 10:45:07 |
| phastCons30way.UCSC.hg38/ | - | 2025-10-22 10:45:07 |
| rGenomeTracksData/ | - | 2025-10-22 10:45:07 |
| rat2302frmavecs/ | - | 2025-10-22 10:45:07 |
| scAnnotatR.models/ | - | 2025-10-22 10:45:07 |
| synaptome.data/ | - | 2025-10-22 10:45:07 |
| synaptome.db/ | - | 2025-10-22 10:45:07 |
| 120px-Blue_Light_Icon.svg.png | 7.1 KiB | 2025-10-22 10:45:07 |
| 120px-Green_Light_Icon.svg.png | 7.1 KiB | 2025-10-22 10:45:07 |
| 120px-Red_Light_Icon.svg.png | 7.0 KiB | 2025-10-22 10:45:07 |
| BUILD_STATUS_DB.txt | 5.5 KiB | 2025-10-22 10:45:07 |
| DEVEL3b.png | 2.6 KiB | 2025-10-22 10:45:07 |
| PROPAGATION_STATUS_DB.txt | 3.3 KiB | 2025-10-22 10:45:07 |
| Renviron.bioc | 3.3 KiB | 2025-10-22 10:45:07 |
| index.html | 87.9 KiB | 2025-10-22 10:45:07 |
| meat-index.dcf | 5.3 KiB | 2025-10-22 10:45:07 |
| nebbiolo2-NodeInfo.html | 7.4 KiB | 2025-10-22 10:45:07 |
| nebbiolo2-R-instpkgs.html | 535.9 KiB | 2025-10-22 10:45:07 |
| report.css | 11.9 KiB | 2025-10-22 10:45:07 |
| report.js | 6.0 KiB | 2025-10-22 10:45:07 |
| report.tgz | 210.3 KiB | 2025-10-22 10:45:08 |
| skipped-index.dcf | 0 B | 2025-10-22 10:45:07 |