Package: OHCA Version: 1.5.0 Command: /home/biocbuild/bbs-3.22-books/R/bin/R CMD build --keep-empty-dirs --no-resave-data OHCA StartedAt: 2025-08-13 06:17:01 -0400 (Wed, 13 Aug 2025) EndedAt: 2025-08-13 06:43:19 -0400 (Wed, 13 Aug 2025) EllapsedTime: 1578.4 seconds RetCode: 0 Status: OK PackageFile: OHCA_1.5.0.tar.gz PackageFileSize: 23.96 MiB