Package: OSCA.intro Version: 1.17.1 Command: rm -rf OSCA.intro.book && mkdir OSCA.intro.book && /home/biocbuild/BBS/utils/deploy_book.py OSCA.intro_1.17.1.tar.gz OSCA.intro.book StartedAt: 2025-08-11 08:20:37 -0400 (Mon, 11 Aug 2025) EndedAt: 2025-08-11 08:20:40 -0400 (Mon, 11 Aug 2025) EllapsedTime: 2.8 seconds RetCode: 0 Status: OK DeployDestDir: OSCA.intro.book Warnings: 0