Package: tximport Version: 1.37.0 Command: /home/rapidbuild/bbs-3.22-bioc-rapid/R/bin/R CMD INSTALL tximport StartedAt: 2025-06-17 18:09:22 -0400 (Tue, 17 Jun 2025) EndedAt: 2025-06-17 18:09:25 -0400 (Tue, 17 Jun 2025) EllapsedTime: 3.0 seconds RetCode: 0 Status: OK