Package: SingleR Version: 2.11.3 Command: /home/rapidbuild/bbs-3.22-bioc-rapid/R/bin/R CMD check --install=check:SingleR.install-out.txt --library=/home/rapidbuild/bbs-3.22-bioc-rapid/R/site-library --timings SingleR_2.11.3.tar.gz StartedAt: 2025-07-24 09:04:09 -0400 (Thu, 24 Jul 2025) EndedAt: 2025-07-24 09:07:52 -0400 (Thu, 24 Jul 2025) EllapsedTime: 223.2 seconds RetCode: 0 Status: OK CheckDir: SingleR.Rcheck Warnings: 0