Package: tkWidgets Version: 1.89.0 Command: /home/rapidbuild/bbs-3.23-bioc-rapid/R/bin/R CMD INSTALL tkWidgets StartedAt: 2025-10-31 06:12:02 -0400 (Fri, 31 Oct 2025) EndedAt: 2025-10-31 06:12:08 -0400 (Fri, 31 Oct 2025) EllapsedTime: 6.2 seconds RetCode: 0 Status: OK