Package: tkWidgets Version: 1.89.0 Command: /home/rapidbuild/bbs-3.23-bioc-rapid/R/bin/R CMD build --keep-empty-dirs --no-resave-data tkWidgets StartedAt: 2025-10-31 07:28:16 -0400 (Fri, 31 Oct 2025) EndedAt: 2025-10-31 07:28:26 -0400 (Fri, 31 Oct 2025) EllapsedTime: 10.0 seconds RetCode: 0 Status: OK PackageFile: tkWidgets_1.89.0.tar.gz PackageFileSize: 478 KiB