Package: sparseMatrixStats Version: 1.21.0 Command: /home/rapidbuild/bbs-3.22-bioc-rapid/R/bin/R CMD check --install=check:sparseMatrixStats.install-out.txt --library=/home/rapidbuild/bbs-3.22-bioc-rapid/R/site-library --timings sparseMatrixStats_1.21.0.tar.gz StartedAt: 2025-10-14 15:34:21 -0400 (Tue, 14 Oct 2025) EndedAt: 2025-10-14 15:35:03 -0400 (Tue, 14 Oct 2025) EllapsedTime: 42.6 seconds RetCode: 0 Status: OK CheckDir: sparseMatrixStats.Rcheck Warnings: 0