Package: sesame Version: 1.29.0 Command: /home/rapidbuild/bbs-3.23-bioc-rapid/R/bin/R CMD INSTALL sesame StartedAt: 2025-11-21 06:26:48 -0500 (Fri, 21 Nov 2025) EndedAt: 2025-11-21 06:27:17 -0500 (Fri, 21 Nov 2025) EllapsedTime: 28.6 seconds RetCode: 0 Status: OK