Package: sesame Version: 1.29.0 Command: /home/rapidbuild/bbs-3.23-bioc-rapid/R/bin/R CMD build --keep-empty-dirs --no-resave-data sesame StartedAt: 2025-11-21 07:32:30 -0500 (Fri, 21 Nov 2025) EndedAt: 2025-11-21 07:36:14 -0500 (Fri, 21 Nov 2025) EllapsedTime: 224.2 seconds RetCode: 0 Status: OK PackageFile: sesame_1.29.0.tar.gz PackageFileSize: 16.23 MiB