Package: scran Version: 1.37.0 Command: /home/rapidbuild/bbs-3.22-bioc-rapid/R/bin/R CMD build --keep-empty-dirs --no-resave-data scran StartedAt: 2025-09-30 07:23:50 -0400 (Tue, 30 Sep 2025) EndedAt: 2025-09-30 07:26:32 -0400 (Tue, 30 Sep 2025) EllapsedTime: 162.6 seconds RetCode: 0 Status: OK PackageFile: scran_1.37.0.tar.gz PackageFileSize: 1.743 MiB