Package: pwalign Version: 1.7.0 Command: /home/rapidbuild/bbs-3.23-bioc-rapid/R/bin/R CMD INSTALL pwalign StartedAt: 2025-11-08 06:13:45 -0500 (Sat, 08 Nov 2025) EndedAt: 2025-11-08 06:13:57 -0500 (Sat, 08 Nov 2025) EllapsedTime: 11.8 seconds RetCode: 0 Status: OK