Package: pwalign Version: 1.7.0 Command: /home/rapidbuild/bbs-3.23-bioc-rapid/R/bin/R CMD build --keep-empty-dirs --no-resave-data pwalign StartedAt: 2025-11-08 07:18:07 -0500 (Sat, 08 Nov 2025) EndedAt: 2025-11-08 07:18:56 -0500 (Sat, 08 Nov 2025) EllapsedTime: 49.0 seconds RetCode: 0 Status: OK PackageFile: pwalign_1.7.0.tar.gz PackageFileSize: 346.3 KiB