Package: phyloseq Version: 1.55.0 Command: /home/rapidbuild/bbs-3.23-bioc-rapid/R/bin/R CMD INSTALL phyloseq StartedAt: 2025-11-22 06:19:04 -0500 (Sat, 22 Nov 2025) EndedAt: 2025-11-22 06:19:25 -0500 (Sat, 22 Nov 2025) EllapsedTime: 21.6 seconds RetCode: 0 Status: OK