Package: phyloseq Version: 1.55.0 Command: /home/rapidbuild/bbs-3.23-bioc-rapid/R/bin/R CMD build --keep-empty-dirs --no-resave-data phyloseq StartedAt: 2025-11-22 07:18:11 -0500 (Sat, 22 Nov 2025) EndedAt: 2025-11-22 07:19:32 -0500 (Sat, 22 Nov 2025) EllapsedTime: 81.2 seconds RetCode: 0 Status: OK PackageFile: phyloseq_1.55.0.tar.gz PackageFileSize: 6.08 MiB