Package: pcaMethods Version: 2.1.0 Command: /home/rapidbuild/bbs-3.22-bioc-rapid/R/bin/R CMD INSTALL pcaMethods StartedAt: 2025-10-09 06:09:05 -0400 (Thu, 09 Oct 2025) EndedAt: 2025-10-09 06:09:15 -0400 (Thu, 09 Oct 2025) EllapsedTime: 10.2 seconds RetCode: 0 Status: OK