Package: pcaMethods Version: 2.1.0 Command: /home/rapidbuild/bbs-3.22-bioc-rapid/R/bin/R CMD build --keep-empty-dirs --no-resave-data pcaMethods StartedAt: 2025-10-09 07:13:39 -0400 (Thu, 09 Oct 2025) EndedAt: 2025-10-09 07:14:54 -0400 (Thu, 09 Oct 2025) EllapsedTime: 74.9 seconds RetCode: 0 Status: OK PackageFile: pcaMethods_2.1.0.tar.gz PackageFileSize: 1015 KiB