Package: pRoloc Version: 1.49.2 Command: /home/rapidbuild/bbs-3.22-bioc-rapid/R/bin/R CMD INSTALL pRoloc StartedAt: 2025-10-14 12:24:12 -0400 (Tue, 14 Oct 2025) EndedAt: 2025-10-14 12:25:18 -0400 (Tue, 14 Oct 2025) EllapsedTime: 65.7 seconds RetCode: 0 Status: OK