Package: pRoloc Version: 1.49.2 Command: /home/rapidbuild/bbs-3.22-bioc-rapid/R/bin/R CMD build --keep-empty-dirs --no-resave-data pRoloc StartedAt: 2025-10-14 13:17:10 -0400 (Tue, 14 Oct 2025) EndedAt: 2025-10-14 13:20:19 -0400 (Tue, 14 Oct 2025) EllapsedTime: 188.8 seconds RetCode: 0 Status: OK PackageFile: pRoloc_1.49.2.tar.gz PackageFileSize: 10.79 MiB