Package: openCyto Version: 2.23.0 Command: /home/rapidbuild/bbs-3.23-bioc-rapid/R/bin/R CMD INSTALL openCyto StartedAt: 2025-11-26 06:25:46 -0500 (Wed, 26 Nov 2025) EndedAt: 2025-11-26 06:26:09 -0500 (Wed, 26 Nov 2025) EllapsedTime: 22.8 seconds RetCode: 0 Status: OK