Package: openCyto Version: 2.23.0 Command: /home/rapidbuild/bbs-3.23-bioc-rapid/R/bin/R CMD build --keep-empty-dirs --no-resave-data openCyto StartedAt: 2025-11-26 07:14:52 -0500 (Wed, 26 Nov 2025) EndedAt: 2025-11-26 07:15:54 -0500 (Wed, 26 Nov 2025) EllapsedTime: 61.3 seconds RetCode: 0 Status: OK PackageFile: openCyto_2.23.0.tar.gz PackageFileSize: 1.774 MiB