Package: ncdfFlow Version: 2.55.0 Command: /home/rapidbuild/bbs-3.22-bioc-rapid/R/bin/R CMD INSTALL ncdfFlow StartedAt: 2025-10-10 06:11:13 -0400 (Fri, 10 Oct 2025) EndedAt: 2025-10-10 06:11:23 -0400 (Fri, 10 Oct 2025) EllapsedTime: 10.2 seconds RetCode: 0 Status: OK