Package: ncdfFlow Version: 2.55.0 Command: /home/rapidbuild/bbs-3.22-bioc-rapid/R/bin/R CMD build --keep-empty-dirs --no-resave-data ncdfFlow StartedAt: 2025-10-10 07:12:20 -0400 (Fri, 10 Oct 2025) EndedAt: 2025-10-10 07:12:40 -0400 (Fri, 10 Oct 2025) EllapsedTime: 19.3 seconds RetCode: 0 Status: OK PackageFile: ncdfFlow_2.55.0.tar.gz PackageFileSize: 198.6 KiB