Package: mzR Version: 2.43.3 Command: /home/rapidbuild/bbs-3.22-bioc-rapid/R/bin/R CMD build --keep-empty-dirs --no-resave-data mzR StartedAt: 2025-10-14 13:14:18 -0400 (Tue, 14 Oct 2025) EndedAt: 2025-10-14 13:21:07 -0400 (Tue, 14 Oct 2025) EllapsedTime: 408.9 seconds RetCode: 0 Status: OK PackageFile: mzR_2.43.3.tar.gz PackageFileSize: 7.376 MiB