Package: multtest Version: 2.67.0 Command: /home/rapidbuild/bbs-3.23-bioc-rapid/R/bin/R CMD INSTALL multtest StartedAt: 2025-10-31 06:09:36 -0400 (Fri, 31 Oct 2025) EndedAt: 2025-10-31 06:09:45 -0400 (Fri, 31 Oct 2025) EllapsedTime: 9.2 seconds RetCode: 0 Status: OK