Package: multtest Version: 2.67.0 Command: /home/rapidbuild/bbs-3.23-bioc-rapid/R/bin/R CMD build --keep-empty-dirs --no-resave-data multtest StartedAt: 2025-10-31 07:09:36 -0400 (Fri, 31 Oct 2025) EndedAt: 2025-10-31 07:09:37 -0400 (Fri, 31 Oct 2025) EllapsedTime: 1.0 seconds RetCode: 0 Status: OK PackageFile: multtest_2.67.0.tar.gz PackageFileSize: 1.235 MiB