Package: minet Version: 3.69.0 Command: /home/rapidbuild/bbs-3.23-bioc-rapid/R/bin/R CMD INSTALL minet StartedAt: 2025-11-26 06:04:54 -0500 (Wed, 26 Nov 2025) EndedAt: 2025-11-26 06:04:59 -0500 (Wed, 26 Nov 2025) EllapsedTime: 5.0 seconds RetCode: 0 Status: OK