Package: microRNA Version: 1.69.0 Command: /home/rapidbuild/bbs-3.23-bioc-rapid/R/bin/R CMD INSTALL microRNA StartedAt: 2025-11-16 06:13:19 -0500 (Sun, 16 Nov 2025) EndedAt: 2025-11-16 06:13:27 -0500 (Sun, 16 Nov 2025) EllapsedTime: 8.2 seconds RetCode: 0 Status: OK