Package: interactiveDisplayBase Version: 1.47.1 Command: /home/rapidbuild/bbs-3.22-bioc-rapid/R/bin/R CMD check --install=check:interactiveDisplayBase.install-out.txt --library=/home/rapidbuild/bbs-3.22-bioc-rapid/R/site-library --timings interactiveDisplayBase_1.47.1.tar.gz StartedAt: 2025-10-12 08:49:06 -0400 (Sun, 12 Oct 2025) EndedAt: 2025-10-12 08:49:26 -0400 (Sun, 12 Oct 2025) EllapsedTime: 20.3 seconds RetCode: 0 Status: OK CheckDir: interactiveDisplayBase.Rcheck Warnings: 0