Package: graph Version: 1.87.0 Command: /home/rapidbuild/bbs-3.22-bioc-rapid/R/bin/R CMD INSTALL graph StartedAt: 2025-10-10 06:10:02 -0400 (Fri, 10 Oct 2025) EndedAt: 2025-10-10 06:10:11 -0400 (Fri, 10 Oct 2025) EllapsedTime: 8.2 seconds RetCode: 0 Status: OK