Package: graph Version: 1.87.0 Command: /home/rapidbuild/bbs-3.22-bioc-rapid/R/bin/R CMD build --keep-empty-dirs --no-resave-data graph StartedAt: 2025-10-10 06:56:19 -0400 (Fri, 10 Oct 2025) EndedAt: 2025-10-10 06:56:40 -0400 (Fri, 10 Oct 2025) EllapsedTime: 21.0 seconds RetCode: 0 Status: OK PackageFile: graph_1.87.0.tar.gz PackageFileSize: 1.429 MiB