Package: gpls Version: 1.81.0 Command: /home/rapidbuild/bbs-3.22-bioc-rapid/R/bin/R CMD INSTALL gpls StartedAt: 2025-10-07 06:05:37 -0400 (Tue, 07 Oct 2025) EndedAt: 2025-10-07 06:05:39 -0400 (Tue, 07 Oct 2025) EllapsedTime: 2.0 seconds RetCode: 0 Status: OK