Package: gpls Version: 1.81.0 Command: /home/rapidbuild/bbs-3.22-bioc-rapid/R/bin/R CMD build --keep-empty-dirs --no-resave-data gpls StartedAt: 2025-10-07 06:57:08 -0400 (Tue, 07 Oct 2025) EndedAt: 2025-10-07 06:57:15 -0400 (Tue, 07 Oct 2025) EllapsedTime: 7.0 seconds RetCode: 0 Status: OK PackageFile: gpls_1.81.0.tar.gz PackageFileSize: 233.2 KiB