Package: glmGamPoi Version: 1.23.0 Command: /home/rapidbuild/bbs-3.23-bioc-rapid/R/bin/R CMD INSTALL glmGamPoi StartedAt: 2025-11-21 06:16:35 -0500 (Fri, 21 Nov 2025) EndedAt: 2025-11-21 06:17:24 -0500 (Fri, 21 Nov 2025) EllapsedTime: 48.3 seconds RetCode: 0 Status: OK